BEGIN:VCALENDAR
VERSION:2.0
PRODID:-//eventon.com NONSGML v1.0//EN
CALSCALE:GREGORIAN
METHOD:PUBLISH
BEGIN:VEVENT
UID:69eb633743ac9
DTSTAMP:20260424T123359Z
DTSTART:20260707
DTEND:20260708
LOCATION:
SUMMARY:Les Assises du NewSpace
DESCRIPTION:Plongez au cœur de l’innovation spatiale lors de la 5ème sa
 ison des Assises du NewSpace\,  qui se tiendra les 7 et 8 juillet 2026 à P
 aris.Cet événement majeur réunit les acteurs du spatial pour explorer et
  construire l’avenir de la nouvelle économie spatiale. Depuis leur créa
 tion en 2022\,  les Assises[..]\nhttps://www.cluster-maritime.fr/events/les
 -assises-du-newspace/
URL:https://www.cluster-maritime.fr/events/les-assises-du-newspace/
END:VEVENT
END:VCALENDAR