BEGIN:VCALENDAR
VERSION:2.0
PRODID:-//eventon.com NONSGML v1.0//EN
CALSCALE:GREGORIAN
METHOD:PUBLISH
BEGIN:VEVENT
UID:69eb7c484a859
DTSTAMP:20260424T142056Z
DTSTART:20260618
DTEND:20260619
LOCATION:
SUMMARY:Les Assises de la pêche et des produits de la mer
DESCRIPTION:Depuis quinze années\,  les Assises de la pêche et des produi
 ts de la mer rythment la vie de ces secteurs vitaux du maritime\,  rassembl
 ant chaque année celles et ceux qui façonnent leur avenir. Lieu de réfle
 xion et d’échanges\,  cette rencontre annuelle est devenue un point de c
 onvergence essentiel pour les[..]\nhttps://www.cluster-maritime.fr/events/l
 es-assises-de-la-peche-et-des-produits-de-la-mer/
URL:https://www.cluster-maritime.fr/events/les-assises-de-la-peche-et-des-produits-de-la-mer/
END:VEVENT
END:VCALENDAR