BEGIN:VCALENDAR
VERSION:2.0
PRODID:-//eventon.com NONSGML v1.0//EN
CALSCALE:GREGORIAN
METHOD:PUBLISH
BEGIN:VEVENT
UID:69eb395d31040
DTSTAMP:20260424T093525Z
DTSTART:20220627T220000Z
DTEND:20220630T215900Z
LOCATION:
SUMMARY:EUROMARITIME 2022 à Marseille
DESCRIPTION:Organisé par Ouest France\,  le marin et le GICAN\,  avec le
  soutien du Cluster Maritime Français\,  Euromaritime ouvrira ses portes 
 à Marseille du 28 au 30 juin.Toute l'équipe du Cluster espère vous recev
 oir nombreux sur son pavillon (C11) qui accueillera plusieurs de ses me
 mbres : AqualinesCEPS-FPCGroupe ProriskO5 MarineSeasecure – GuianWPD Retr
 ouver le plan et la présentation des[..]\nhttps://www.cluster-maritime.fr/
 events/euromaritime-2022-a-marseille/
URL:https://www.cluster-maritime.fr/events/euromaritime-2022-a-marseille/
END:VEVENT
END:VCALENDAR