BEGIN:VCALENDAR
VERSION:2.0
PRODID:-//eventon.com NONSGML v1.0//EN
CALSCALE:GREGORIAN
METHOD:PUBLISH
BEGIN:VEVENT
UID:69e72462d571f
DTSTAMP:20260421T071650Z
DTSTART:20191120T000000Z
DTEND:20191122T235900Z
LOCATION:
SUMMARY:Sustainable Ocean Summit (SOS) 2019 - Paris
DESCRIPTION:The World Ocean Council (WOC) Sustainable Ocean Summit (SOS) is
  the annual gathering of the global Ocean Business Community dedicated to a
 dvancing private sector action on responsible use of the seas. With the the
 me of “Investing in Ocean Futures: Finance and Innovation for the Blue Ec
 onomy”\,  the SOS 2019 will[..]\nhttps://www.cluster-maritime.fr/events/s
 ustainable-ocean-summit-sos-2019-paris/
URL:https://www.cluster-maritime.fr/events/sustainable-ocean-summit-sos-2019-paris/
END:VEVENT
END:VCALENDAR